{
 "version": 1.0,
 "tileBundlesPath": "./tile",
 "storageInfo": {
  "packetSize": 128,
  "storageFormat": "esriMapCacheStorageModeCompactV2"
 },
 "tileImageInfo": {
  "format": "PNG",
  "compressionQuality": 0,
  "bandCount": 1,
  "lercError": 0
 },
 "tileInfo": {
  "spatialReference": {
   "wkid": 102100,
   "latestWkid": 3857
  },
  "origin": {
   "x": -2.0037508342787E7,
   "y": 2.0037508342787E7
  },
  "rows": 256,
  "cols": 256,
  "dpi": 96,
  "lods": [
   {
    "level": 0,
    "resolution": 156543.033928,
    "scale": 5.91657527591555E8
   },
   {
    "level": 1,
    "resolution": 78271.5169639999,
    "scale": 2.95828763795777E8
   },
   {
    "level": 2,
    "resolution": 39135.7584820001,
    "scale": 1.47914381897889E8
   },
   {
    "level": 3,
    "resolution": 19567.8792409999,
    "scale": 7.3957190948944E7
   },
   {
    "level": 4,
    "resolution": 9783.93962049996,
    "scale": 3.6978595474472E7
   },
   {
    "level": 5,
    "resolution": 4891.96981024998,
    "scale": 1.8489297737236E7
   },
   {
    "level": 6,
    "resolution": 2445.98490512499,
    "scale": 9244648.868618
   },
   {
    "level": 7,
    "resolution": 1222.99245256249,
    "scale": 4622324.434309
   },
   {
    "level": 8,
    "resolution": 611.49622628138,
    "scale": 2311162.217155
   },
   {
    "level": 9,
    "resolution": 305.748113140558,
    "scale": 1155581.108577
   },
   {
    "level": 10,
    "resolution": 152.874056570411,
    "scale": 577790.554289
   },
   {
    "level": 11,
    "resolution": 76.4370282850732,
    "scale": 288895.277144
   },
   {
    "level": 12,
    "resolution": 38.2185141425366,
    "scale": 144447.638572
   },
   {
    "level": 13,
    "resolution": 19.1092570712683,
    "scale": 72223.819286
   },
   {
    "level": 14,
    "resolution": 9.55462853563415,
    "scale": 36111.909643
   },
   {
    "level": 15,
    "resolution": 4.77731426794937,
    "scale": 18055.954822
   },
   {
    "level": 16,
    "resolution": 2.38865713397468,
    "scale": 9027.977411
   },
   {
    "level": 17,
    "resolution": 1.19432856685505,
    "scale": 4513.988705
   },
   {
    "level": 18,
    "resolution": 0.597164283559817,
    "scale": 2256.994353
   },
   {
    "level": 19,
    "resolution": 0.298582141647617,
    "scale": 1128.497176
   },
   {
    "level": 20,
    "resolution": 0.14929107082380833,
    "scale": 564.248588
   },
   {
    "level": 21,
    "resolution": 0.07464553541190416,
    "scale": 282.124294
   },
   {
    "level": 22,
    "resolution": 0.03732276770595208,
    "scale": 141.062147
   },
   {
    "level": 23,
    "resolution": 0.01866138385297604,
    "scale": 70.5310735
   }
  ],
  "format": "PNG",
  "compressionQuality": 0,
  "bandCount": 1,
  "lercError": 0,
  "storageFormat": "esriMapCacheStorageModeCompactV2",
  "packetSize": 128
 },
 "name": "Terrestrial GDE",
 "serviceDescription": "",
 "spatialReference": {
  "wkid": 102100,
  "latestWkid": 3857,
  "xyTolerance": 0.001,
  "zTolerance": 0.001,
  "mTolerance": 0.001,
  "falseX": -20037700,
  "falseY": -30241100,
  "xyUnits": 10000,
  "falseZ": -100000,
  "zUnits": 10000,
  "falseM": -100000,
  "mUnits": 10000
 },
 "units": "esriMeters",
 "minLOD": 4,
 "maxLOD": 9,
 "resampling": true,
 "layers": [
  {
   "id": 0,
   "name": "Terrestrial GDE",
   "parentLayerId": -1,
   "defaultVisibility": true,
   "subLayerIds": null,
   "minScale": 0,
   "maxScale": 0,
   "type": "Feature Layer",
   "geometryType": "esriGeometryPolygon",
   "supportsDynamicLegends": true,
   "legend": [
    {
     "label": "Known GDE - from regional studies",
     "imageData": "iVBORw0KGgoAAAANSUhEUgAAABQAAAAUCAYAAACNiR0NAAAACXBIWXMAAA7EAAAOxAGVKw4bAAAAM0lEQVQ4jWNhMGb4z0BFwEJNw0Bg1EDKAQsVzEABowZSDlioYAYKGDWQcsBCBTMYRriBAJyaAYPvxzhIAAAAAElFTkSuQmCC",
     "contentType": "image/png",
     "groupId": "0",
     "height": 20,
     "width": 20,
     "values": [
      "Known GDE - from regional studies"
     ],
     "layerId": 0,
     "layerName": "Terrestrial GDE"
    },
    {
     "label": "High potential GDE - from regional studies",
     "imageData": "iVBORw0KGgoAAAANSUhEUgAAABQAAAAUCAYAAACNiR0NAAAACXBIWXMAAA7EAAAOxAGVKw4bAAAAM0lEQVQ4jWNJS2P4z0BFwEJNw0Bg1EDKAQsVzEABowZSDlioYAYKGDWQcsBCBTMYRriBAGQ+AhwuOSp/AAAAAElFTkSuQmCC",
     "contentType": "image/png",
     "groupId": "0",
     "height": 20,
     "width": 20,
     "values": [
      "High potential GDE - from regional studies"
     ],
     "layerId": 0,
     "layerName": "Terrestrial GDE"
    },
    {
     "label": "Moderate potential GDE - from regional studies",
     "imageData": "iVBORw0KGgoAAAANSUhEUgAAABQAAAAUCAYAAACNiR0NAAAACXBIWXMAAA7EAAAOxAGVKw4bAAAAMklEQVQ4je3MoREAMAwDMYPfn2fa9gqDbVZrADGjoyCS2dPQR+BYGvoIHEtDH4FDn4cX6TsCgk6bv1AAAAAASUVORK5CYII=",
     "contentType": "image/png",
     "groupId": "0",
     "height": 20,
     "width": 20,
     "values": [
      "Moderate potential GDE - from regional studies"
     ],
     "layerId": 0,
     "layerName": "Terrestrial GDE"
    },
    {
     "label": "Low potential GDE - from regional studies",
     "imageData": "iVBORw0KGgoAAAANSUhEUgAAABQAAAAUCAYAAACNiR0NAAAACXBIWXMAAA7EAAAOxAGVKw4bAAAASklEQVQ4je3UoQ0AMQxDUVsyuLG6RwctDe9QORUWx6z5AzxgYO09F5ADlhg6GInPwWXmEMypwXKqE3cN1pPBuGrwkQ0Z52k9HOMHnGAOPjm81IgAAAAASUVORK5CYII=",
     "contentType": "image/png",
     "groupId": "0",
     "height": 20,
     "width": 20,
     "values": [
      "Low potential GDE - from regional studies"
     ],
     "layerId": 0,
     "layerName": "Terrestrial GDE"
    },
    {
     "label": "Unclassified potential GDE - from regional studies",
     "imageData": "iVBORw0KGgoAAAANSUhEUgAAABQAAAAUCAYAAACNiR0NAAAACXBIWXMAAA7EAAAOxAGVKw4bAAAATElEQVQ4jWN583FWFsP//w4M1ACMjAdYQIb9Z2AIpYp5//8zsDBQGbCMGkgxYKHcCFQwaiDlgIUKZqCAUQNHRhgyMh4AlbRUAYyMBwCSgw9GIlYEBAAAAABJRU5ErkJggg==",
     "contentType": "image/png",
     "groupId": "0",
     "height": 20,
     "width": 20,
     "values": [
      "Unclassified potential GDE - from regional studies"
     ],
     "layerId": 0,
     "layerName": "Terrestrial GDE"
    },
    {
     "label": "High potential GDE - from national assessment",
     "imageData": "iVBORw0KGgoAAAANSUhEUgAAABQAAAAUCAYAAACNiR0NAAAACXBIWXMAAA7EAAAOxAGVKw4bAAAASklEQVQ4jWPRaM5wYPj3z4GBGoCJ6QAL2DBGhnqqGPjvHwMLA5UBy6iBFAMWyo1ABaMGUg5YqGAGChg1cGSEIRPTAVBJSxUANAsAqSIM4OGtxhMAAAAASUVORK5CYII=",
     "contentType": "image/png",
     "groupId": "0",
     "height": 20,
     "width": 20,
     "values": [
      "High potential GDE - from national assessment"
     ],
     "layerId": 0,
     "layerName": "Terrestrial GDE"
    },
    {
     "label": "Moderate potential GDE - from national assessment",
     "imageData": "iVBORw0KGgoAAAANSUhEUgAAABQAAAAUCAYAAACNiR0NAAAACXBIWXMAAA7EAAAOxAGVKw4bAAAAS0lEQVQ4je3UMREAIAxD0dCLMOTgghFZoKzHwcbcbPQLeEOGsM1R3VEhyAyLFyvoCtAdIMQxwXCME28JxqPAeErwiw3NsM7TKjrWBoUhDXvtHnNPAAAAAElFTkSuQmCC",
     "contentType": "image/png",
     "groupId": "0",
     "height": 20,
     "width": 20,
     "values": [
      "Moderate potential GDE - from national assessment"
     ],
     "layerId": 0,
     "layerName": "Terrestrial GDE"
    },
    {
     "label": "Low potential GDE - from national assessment",
     "imageData": "iVBORw0KGgoAAAANSUhEUgAAABQAAAAUCAYAAACNiR0NAAAACXBIWXMAAA7EAAAOxAGVKw4bAAAANElEQVQ4jWOZ+WHffwYqAhZqGgYCowZSDlioYAYKGDWQcsBCBTNQwKiBlAMWKpjBMMINBAC/oAOXJTdKqQAAAABJRU5ErkJggg==",
     "contentType": "image/png",
     "groupId": "0",
     "height": 20,
     "width": 20,
     "values": [
      "Low potential GDE - from national assessment"
     ],
     "layerId": 0,
     "layerName": "Terrestrial GDE"
    },
    {
     "label": "Unclassified potential GDE - from national assessment",
     "imageData": "iVBORw0KGgoAAAANSUhEUgAAABQAAAAUCAYAAACNiR0NAAAACXBIWXMAAA7EAAAOxAGVKw4bAAAANElEQVQ4jWM58//OfwYqAhZqGgYCowZSDlioYAYKGDWQcsBCBTNQwKiBlAMWKpjBMMINBAAeogP3az3G3QAAAABJRU5ErkJggg==",
     "contentType": "image/png",
     "groupId": "0",
     "height": 20,
     "width": 20,
     "values": [
      "Unclassified potential GDE - from national assessment"
     ],
     "layerId": 0,
     "layerName": "Terrestrial GDE"
    }
   ],
   "layerId": 0,
   "layerName": "Terrestrial GDE",
   "serviceItemId": "778e3862c53a41fc907baddda77dfa28"
  },
  {
   "id": 1,
   "name": "Terrestrial GDE - no data",
   "parentLayerId": -1,
   "defaultVisibility": true,
   "subLayerIds": null,
   "minScale": 0,
   "maxScale": 0,
   "type": "Feature Layer",
   "geometryType": "esriGeometryPolygon",
   "supportsDynamicLegends": true,
   "legend": [
    {
     "label": "",
     "imageData": "iVBORw0KGgoAAAANSUhEUgAAABQAAAAUCAYAAACNiR0NAAAACXBIWXMAAA7EAAAOxAGVKw4bAAAAnUlEQVQ4ja3VsQ2DMBRF0Vv8moohkFIyC7tEqSjZhVnoUzEBFRMgI38JIfJB8Xv11ZELyzbgA1TEa4DvTVMDs2XsHYQdMAFj0LxyVyUwWop4iPXAYEJsnymxX+Df2BVYhJ3BYuwISjAH04WUYEBtQqzzEy4qDFhMiI1Aa0JsnymxK7AIO4PFGAdQgjmYLrYEc3DOr/ZwA/o30AbNugGWYyzpJtnIdQAAAABJRU5ErkJggg==",
     "contentType": "image/png",
     "groupId": "0",
     "height": 20,
     "width": 20,
     "layerId": 1,
     "layerName": "Terrestrial GDE - no data"
    }
   ],
   "layerId": 1,
   "layerName": "Terrestrial GDE - no data"
  }
 ],
 "initialExtent": {
  "xmin": 1.2570350452489663E7,
  "ymin": -5407116.264377091,
  "xmax": 1.7102921448074523E7,
  "ymax": -1125611.0359396588,
  "spatialReference": {
   "wkid": 102100,
   "latestWkid": 3857
  }
 },
 "fullExtent": {
  "xmin": 1.2570350452489663E7,
  "ymin": -5407116.264377091,
  "xmax": 1.7102921448074523E7,
  "ymax": -1125611.0359396588,
  "spatialReference": {
   "wkid": 102100,
   "latestWkid": 3857
  }
 },
 "minScale": 3.6978595474472E7,
 "maxScale": 1155581.108577,
 "exportTilesAllowed": false,
 "maxExportTilesCount": 0,
 "currentVersion": 10.91,
 "mapName": "Terrestrial GDE",
 "singleFusedMapCache": true,
 "type": "MapServer",
 "supportedExtensions": "",
 "capabilities": "TilesOnly,Tilemap",
 "serviceItemId": "778e3862c53a41fc907baddda77dfa28"
}
