{
 "version": 1.0,
 "tileBundlesPath": "./tile",
 "storageInfo": {
  "packetSize": 128,
  "storageFormat": "esriMapCacheStorageModeCompactV2"
 },
 "tileImageInfo": {
  "format": "PNG",
  "compressionQuality": 0,
  "bandCount": 1,
  "lercError": 0
 },
 "tileInfo": {
  "spatialReference": {
   "wkid": 102100,
   "latestWkid": 3857
  },
  "origin": {
   "x": -2.0037508342787E7,
   "y": 2.0037508342787E7
  },
  "rows": 256,
  "cols": 256,
  "dpi": 96,
  "lods": [
   {
    "level": 0,
    "resolution": 156543.033928,
    "scale": 5.91657527591555E8
   },
   {
    "level": 1,
    "resolution": 78271.5169639999,
    "scale": 2.95828763795777E8
   },
   {
    "level": 2,
    "resolution": 39135.7584820001,
    "scale": 1.47914381897889E8
   },
   {
    "level": 3,
    "resolution": 19567.8792409999,
    "scale": 7.3957190948944E7
   },
   {
    "level": 4,
    "resolution": 9783.93962049996,
    "scale": 3.6978595474472E7
   },
   {
    "level": 5,
    "resolution": 4891.96981024998,
    "scale": 1.8489297737236E7
   },
   {
    "level": 6,
    "resolution": 2445.98490512499,
    "scale": 9244648.868618
   },
   {
    "level": 7,
    "resolution": 1222.99245256249,
    "scale": 4622324.434309
   },
   {
    "level": 8,
    "resolution": 611.49622628138,
    "scale": 2311162.217155
   },
   {
    "level": 9,
    "resolution": 305.748113140558,
    "scale": 1155581.108577
   },
   {
    "level": 10,
    "resolution": 152.874056570411,
    "scale": 577790.554289
   },
   {
    "level": 11,
    "resolution": 76.4370282850732,
    "scale": 288895.277144
   },
   {
    "level": 12,
    "resolution": 38.2185141425366,
    "scale": 144447.638572
   },
   {
    "level": 13,
    "resolution": 19.1092570712683,
    "scale": 72223.819286
   },
   {
    "level": 14,
    "resolution": 9.55462853563415,
    "scale": 36111.909643
   },
   {
    "level": 15,
    "resolution": 4.77731426794937,
    "scale": 18055.954822
   },
   {
    "level": 16,
    "resolution": 2.38865713397468,
    "scale": 9027.977411
   },
   {
    "level": 17,
    "resolution": 1.19432856685505,
    "scale": 4513.988705
   },
   {
    "level": 18,
    "resolution": 0.597164283559817,
    "scale": 2256.994353
   },
   {
    "level": 19,
    "resolution": 0.298582141647617,
    "scale": 1128.497176
   },
   {
    "level": 20,
    "resolution": 0.14929107082380833,
    "scale": 564.248588
   },
   {
    "level": 21,
    "resolution": 0.07464553541190416,
    "scale": 282.124294
   },
   {
    "level": 22,
    "resolution": 0.03732276770595208,
    "scale": 141.062147
   },
   {
    "level": 23,
    "resolution": 0.01866138385297604,
    "scale": 70.5310735
   }
  ],
  "format": "PNG",
  "compressionQuality": 0,
  "bandCount": 1,
  "lercError": 0,
  "storageFormat": "esriMapCacheStorageModeCompactV2",
  "packetSize": 128
 },
 "name": "Aquatic_GDE",
 "serviceDescription": "",
 "spatialReference": {
  "wkid": 102100,
  "latestWkid": 3857,
  "xyTolerance": 0.001,
  "zTolerance": 0.001,
  "mTolerance": 0.001,
  "falseX": -20037700,
  "falseY": -30241100,
  "xyUnits": 10000,
  "falseZ": -100000,
  "zUnits": 10000,
  "falseM": -100000,
  "mUnits": 10000
 },
 "units": "esriMeters",
 "minLOD": 4,
 "maxLOD": 9,
 "resampling": true,
 "layers": [
  {
   "id": 0,
   "name": "Groundwater Dependent Ecosystems",
   "parentLayerId": -1,
   "defaultVisibility": true,
   "subLayerIds": null,
   "minScale": 3.6978595474472E7,
   "maxScale": 0,
   "type": "Feature Layer",
   "geometryType": "esriGeometryPolygon",
   "supportsDynamicLegends": true,
   "legend": [
    {
     "label": "",
     "imageData": "iVBORw0KGgoAAAANSUhEUgAAABQAAAAUCAYAAACNiR0NAAAACXBIWXMAAA7EAAAOxAGVKw4bAAAAMklEQVQ4je3MIQEAQAwCQATB1mzVaMbMu7dILsDR9gAYZIgv21AIpqKGDRs2bPiHCn46UMsGzYfbMEYAAAAASUVORK5CYII=",
     "contentType": "image/png",
     "height": 20,
     "width": 20,
     "values": [
      ""
     ],
     "layerId": 0,
     "layerName": "Groundwater Dependent Ecosystems"
    },
    {
     "label": "Known GDE - from regional studies",
     "imageData": "iVBORw0KGgoAAAANSUhEUgAAABQAAAAUCAYAAACNiR0NAAAACXBIWXMAAA7EAAAOxAGVKw4bAAAAIklEQVQ4jWPRZUj7z0BFwEJNw0YNHDVw1MBRA0cNHEoGAgD7PwHjyb8dlgAAAABJRU5ErkJggg==",
     "contentType": "image/png",
     "height": 20,
     "width": 20,
     "values": [
      "Known GDE - from regional studies"
     ],
     "layerId": 0,
     "layerName": "Groundwater Dependent Ecosystems"
    },
    {
     "label": "High potential GDE - from regional studies",
     "imageData": "iVBORw0KGgoAAAANSUhEUgAAABQAAAAUCAYAAACNiR0NAAAACXBIWXMAAA7EAAAOxAGVKw4bAAAAIklEQVQ4jWNJU97yn4GKgIWaho0aOGrgqIGjBo4aOJQMBAAt6QKNNWWwogAAAABJRU5ErkJggg==",
     "contentType": "image/png",
     "height": 20,
     "width": 20,
     "values": [
      "High potential GDE - from regional studies"
     ],
     "layerId": 0,
     "layerName": "Groundwater Dependent Ecosystems"
    },
    {
     "label": "Moderate potential GDE - from regional studies",
     "imageData": "iVBORw0KGgoAAAANSUhEUgAAABQAAAAUCAYAAACNiR0NAAAACXBIWXMAAA7EAAAOxAGVKw4bAAAAIklEQVQ4jWPZkvbsPwMVAQs1DRs1cNTAUQNHDRw1cCgZCAD+twNQ75Pu2gAAAABJRU5ErkJggg==",
     "contentType": "image/png",
     "height": 20,
     "width": 20,
     "values": [
      "Moderate potential GDE - from regional studies"
     ],
     "layerId": 0,
     "layerName": "Groundwater Dependent Ecosystems"
    },
    {
     "label": "Low potential GDE - from regional studies",
     "imageData": "iVBORw0KGgoAAAANSUhEUgAAABQAAAAUCAYAAACNiR0NAAAACXBIWXMAAA7EAAAOxAGVKw4bAAAAOklEQVQ4jWO5s+T/dgZGBgcGaoD/DAdYoIZxUMVARgYHFqoYhARGDRw1cNTAUQNHDYQZ+J/hADWrAAA/EQnQ4YeFnAAAAABJRU5ErkJggg==",
     "contentType": "image/png",
     "height": 20,
     "width": 20,
     "values": [
      "Low potential GDE - from regional studies"
     ],
     "layerId": 0,
     "layerName": "Groundwater Dependent Ecosystems"
    },
    {
     "label": "Unclassified potential GDE - from regional studies",
     "imageData": "iVBORw0KGgoAAAANSUhEUgAAABQAAAAUCAYAAACNiR0NAAAACXBIWXMAAA7EAAAOxAGVKw4bAAAAIklEQVQ4jWN5eOn/fwYqAhZqGjZq4KiBowaOGjhq4FAyEABkGgQCYVm/OwAAAABJRU5ErkJggg==",
     "contentType": "image/png",
     "height": 20,
     "width": 20,
     "values": [
      "Unclassified potential GDE - from regional studies"
     ],
     "layerId": 0,
     "layerName": "Groundwater Dependent Ecosystems"
    },
    {
     "label": "High potential GDE - from national assessment",
     "imageData": "iVBORw0KGgoAAAANSUhEUgAAABQAAAAUCAYAAACNiR0NAAAACXBIWXMAAA7EAAAOxAGVKw4bAAAAP0lEQVQ4jWNhiN7SwvCfwYGBGoCR4QAL1DBrqhj4n4GBhSoGIYFRA0cNHDVw1MBRA2EGMjIcYPhPJdMYGQ4AAHfSCN5YILsAAAAAAElFTkSuQmCC",
     "contentType": "image/png",
     "height": 20,
     "width": 20,
     "values": [
      "High potential GDE - from national assessment"
     ],
     "layerId": 0,
     "layerName": "Groundwater Dependent Ecosystems"
    },
    {
     "label": "Moderate potential GDE - from national assessment",
     "imageData": "iVBORw0KGgoAAAANSUhEUgAAABQAAAAUCAYAAACNiR0NAAAACXBIWXMAAA7EAAAOxAGVKw4bAAAAIklEQVQ4jWOJWvr/PwMVAQs1DRs1cNTAUQNHDRw1cCgZCADxoANORPe2lgAAAABJRU5ErkJggg==",
     "contentType": "image/png",
     "height": 20,
     "width": 20,
     "values": [
      "Moderate potential GDE - from national assessment"
     ],
     "layerId": 0,
     "layerName": "Groundwater Dependent Ecosystems"
    },
    {
     "label": "Low potential GDE - from national assessment",
     "imageData": "iVBORw0KGgoAAAANSUhEUgAAABQAAAAUCAYAAACNiR0NAAAACXBIWXMAAA7EAAAOxAGVKw4bAAAAQklEQVQ4je3MQRHAMAwDwdOMgYVESBRS0ZhG0CifPgrATy2Arff4sVkMkOiyWZg9ERqoiegvYcKECRN+oUR7KJPoC3jVDUFJTAJYAAAAAElFTkSuQmCC",
     "contentType": "image/png",
     "height": 20,
     "width": 20,
     "values": [
      "Low potential GDE - from national assessment"
     ],
     "layerId": 0,
     "layerName": "Groundwater Dependent Ecosystems"
    },
    {
     "label": "Unclassified potential GDE - from national assessment",
     "imageData": "iVBORw0KGgoAAAANSUhEUgAAABQAAAAUCAYAAACNiR0NAAAACXBIWXMAAA7EAAAOxAGVKw4bAAAASklEQVQ4jWMpLCzazsjE5MBABfD/378DLIxMTA5RTd0c1DBwWV2pAws1DEIGowaOGjhq4KiBowZCDfz/79+BZXWlDtQw7P+/fwcAnJ8TOBFZPeYAAAAASUVORK5CYII=",
     "contentType": "image/png",
     "height": 20,
     "width": 20,
     "values": [
      "Unclassified potential GDE - from national assessment"
     ],
     "layerId": 0,
     "layerName": "Groundwater Dependent Ecosystems"
    },
    {
     "label": "",
     "imageData": "iVBORw0KGgoAAAANSUhEUgAAABQAAAAUCAYAAACNiR0NAAAACXBIWXMAAA7EAAAOxAGVKw4bAAAAPklEQVQ4je3MIQEAMQwDwICC5zUUR5X3tIbiYXATEJgTcDUzPwDCYwsAu/tzbJJYjuiVMGHChAlvuJJo+vYATMoLZGvM8ywAAAAASUVORK5CYII=",
     "contentType": "image/png",
     "height": 20,
     "width": 20,
     "layerId": 0,
     "layerName": "Groundwater Dependent Ecosystems"
    }
   ],
   "layerId": 0,
   "layerName": "Groundwater Dependent Ecosystems"
  }
 ],
 "initialExtent": {
  "xmin": 1.2632327898309741E7,
  "ymin": -5408687.438222748,
  "xmax": 1.710129471640163E7,
  "ymax": -1127421.641332785,
  "spatialReference": {
   "wkid": 102100,
   "latestWkid": 3857,
   "xyTolerance": 0.001,
   "zTolerance": 0.001,
   "mTolerance": 0.001,
   "falseX": -20037700,
   "falseY": -30241100,
   "xyUnits": 10000,
   "falseZ": -100000,
   "zUnits": 10000,
   "falseM": -100000,
   "mUnits": 10000
  }
 },
 "fullExtent": {
  "xmin": 1.2632327898309741E7,
  "ymin": -5408687.438222748,
  "xmax": 1.710129471640163E7,
  "ymax": -1127421.641332785,
  "spatialReference": {
   "wkid": 102100,
   "latestWkid": 3857,
   "xyTolerance": 0.001,
   "zTolerance": 0.001,
   "mTolerance": 0.001,
   "falseX": -20037700,
   "falseY": -30241100,
   "xyUnits": 10000,
   "falseZ": -100000,
   "zUnits": 10000,
   "falseM": -100000,
   "mUnits": 10000
  }
 },
 "minScale": 3.6978595474472E7,
 "maxScale": 1155581.108577,
 "exportTilesAllowed": false,
 "maxExportTilesCount": 0,
 "currentVersion": 10.91,
 "mapName": "Aquatic_GDE",
 "singleFusedMapCache": true,
 "type": "MapServer",
 "supportedExtensions": "",
 "capabilities": "TilesOnly,Tilemap",
 "serviceItemId": "2d103716b23d4818be714f0f3269b043"
}
